Workbook

Sheet Reggie_M
A2: Month | B2: Week | C2: Account | D2: Projected Return | E2: £ | F2: No | G2: Account | H2: Account | I2: MAX Risk | J2: Actual
B3: Commencing | C3: Equity | D3: Equity | E3: Per Pip | F3: Of Pips | G3: Top UP | H3: W/drawal | I3: % Per Trade | J3: % ROI
A4: 1 | B4: 43114 | C4: 1500 | D4: =C4+(C4*-0.1565) -> 1265.25 | E4: =C4/3250 -> 0.46153846 | F4: =(D4-C4)/E4 -> -508.625 | I4: =E4*50/C4 -> 0.015384615 | J4: =(D4-C4)/C4 -> -0.1565
B5: =B4+7 -> 43121 | C5: =D4+G4-H4 -> 1265.25 | D5: =C5+(C5*-0.2248) -> 980.8218 | E5: =C5/3250 -> 0.38930769 | F5: =(D5-C5)/E5 -> -730.6 | I5: =E5*50/C5 -> 0.015384615 | J5: =(D5-C4)/C4 -> -0.3461188
B6: =B5+7 -> 43128 | C6: =D5+G5-H5 -> 980.8218 | D6: =C6+(C6*-0.05845) -> 923.49277 | E6: =C6/3250 -> 0.30179132 | F6: =(D6-C6)/E6 -> -189.9625 | I6: =E6*50/C6 -> 0.015384615 | J6: =(D6-C4)/C4 -> -0.38433816
B7: =B6+7 -> 43135 | C7: =D6+G6-H6 -> 923.49277 | D7: =C7+(C7*0) -> 923.49277 | E7: =C7/3250 -> 0.28415162 | F7: =(D7-C7)/E7 -> 0 | I7: =E7*50/C7 -> 0.015384615 | J7: =(D7-C4)/C4 -> -0.38433816
A9: 2 | B9: =B7+7 -> 43142 | C9: =D7+G7-H7 -> 923.49277 | D9: =C9+(C9*0.0028) -> 926.07855 | E9: =C9/3250 -> 0.28415162 | F9: =(D9-C9)/E9 -> 9.1 | I9: =E9*50/C9 -> 0.015384615 | J9: =(D9-C4)/C4 -> -0.3826143
B10: =B9+7 -> 43149 | C10: =D9+G9-H9 -> 926.07855 | D10: =C10+(C10*0.1878) -> 1099.9961 | E10: =C10/3250 -> 0.28494724 | F10: =(D10-C10)/E10 -> 610.35 | I10: =E10*50/C10 -> 0.015384615 | J10: =(D10-C4)/C4 -> -0.26666927
B11: =B10+7 -> 43156 | C11: =D10+G10-H10 -> 1099.9961 | D11: =C11+(C11*-0.7842) -> 237.37916 | E11: =C11/3250 -> 0.33846034 | F11: =(D11-C11)/E11 -> -2548.65 | I11: =E11*50/C11 -> 0.015384615 | J11: =(D11-C4)/C4 -> -0.84174723
B12: =B11+7 -> 43163 | C12: =D11+G11-H11 -> 237.37916 | D12: =C12+(C12*0.03) -> 244.50053 | E12: =C12/3250 -> 0.073039741 | F12: =(D12-C12)/E12 -> 97.5 | I12: =E12*50/C12 -> 0.015384615
A14: 3 | B14: =B12+7 -> 43170 | C14: =D12+G12-H12 -> 244.50053 | D14: =C14+(C14*0.03) -> 251.83555 | E14: =C14/3250 -> 0.075230933 | F14: =(D14-C14)/E14 -> 97.5 | I14: =E14*50/C14 -> 0.015384615
B15: =B14+7 -> 43177 | C15: =D14+G14-H14 -> 251.83555 | D15: =C15+(C15*0.03) -> 259.39061 | E15: =C15/3250 -> 0.077487861 | F15: =(D15-C15)/E15 -> 97.5 | I15: =E15*50/C15 -> 0.015384615
B16: =B15+7 -> 43184 | C16: =D15+G15-H15 -> 259.39061 | D16: =C16+(C16*0.03) -> 267.17233 | E16: =C16/3250 -> 0.079812497 | F16: =(D16-C16)/E16 -> 97.5 | I16: =E16*50/C16 -> 0.015384615
B17: =B16+7 -> 43191 | C17: =D16+G16-H16 -> 267.17233 | D17: =C17+(C17*0.03) -> 275.1875 | E17: =C17/3250 -> 0.082206872 | F17: =(D17-C17)/E17 -> 97.5 | H17: =(D17-C4)*0.3 -> -367.44375 | I17: =E17*50/C17 -> 0.015384615 | K17: Alligator Fund Management gives or takes 30% of losses or winnings
A19: 4 | B19: =B17+7 -> 43198 | C19: =D17+G17-H17 -> 642.63125 | D19: =C19+(C19*0.03) -> 661.91019 | E19: =C19/3250 -> 0.19773269 | F19: =(D19-C19)/E19 -> 97.5 | I19: =E19*50/C19 -> 0.015384615
B20: =B19+7 -> 43205 | C20: =D19+G19-H19 -> 661.91019 | D20: =C20+(C20*0.03) -> 681.7675 | E20: =C20/3250 -> 0.20366467 | F20: =(D20-C20)/E20 -> 97.5 | I20: =E20*50/C20 -> 0.015384615
B21: =B20+7 -> 43212 | C21: =D20+G20-H20 -> 681.7675 | D21: =C21+(C21*0.03) -> 702.22052 | E21: =C21/3250 -> 0.20977461 | F21: =(D21-C21)/E21 -> 97.5 | I21: =E21*50/C21 -> 0.015384615
B22: =B21+7 -> 43219 | C22: =D21+G21-H21 -> 702.22052 | D22: =C22+(C22*0.03) -> 723.28714 | E22: =C22/3250 -> 0.21606785 | F22: =(D22-C22)/E22 -> 97.5 | I22: =E22*50/C22 -> 0.015384615
A24: 5 | B24: =B22+7 -> 43226 | C24: =D22+G22-H22 -> 723.28714 | D24: =C24+(C24*0.03) -> 744.98575 | E24: =C24/3250 -> 0.22254989 | F24: =(D24-C24)/E24 -> 97.5 | I24: =E24*50/C24 -> 0.015384615
B25: =B24+7 -> 43233 | C25: =D24+G24-H24 -> 744.98575 | D25: =C25+(C25*0.03) -> 767.33532 | E25: =C25/3250 -> 0.22922638 | F25: =(D25-C25)/E25 -> 97.5 | I25: =E25*50/C25 -> 0.015384615
B26: =B25+7 -> 43240 | C26: =D25+G25-H25 -> 767.33532 | D26: =C26+(C26*0.03) -> 790.35538 | E26: =C26/3250 -> 0.23610318 | F26: =(D26-C26)/E26 -> 97.5 | I26: =E26*50/C26 -> 0.015384615
B27: =B26+7 -> 43247 | C27: =D26+G26-H26 -> 790.35538 | D27: =C27+(C27*0.03) -> 814.06604 | E27: =C27/3250 -> 0.24318627 | F27: =(D27-C27)/E27 -> 97.5 | I27: =E27*50/C27 -> 0.015384615
A29: 6 | B29: =B27+7 -> 43254 | C29: =D27+G27-H27 -> 814.06604 | D29: =C29+(C29*0.03) -> 838.48802 | E29: =C29/3250 -> 0.25048186 | F29: =(D29-C29)/E29 -> 97.5 | I29: =E29*50/C29 -> 0.015384615
B30: =B29+7 -> 43261 | C30: =D29+G29-H29 -> 838.48802 | D30: =C30+(C30*0.03) -> 863.64267 | E30: =C30/3250 -> 0.25799632 | F30: =(D30-C30)/E30 -> 97.5 | I30: =E30*50/C30 -> 0.015384615
B31: =B30+7 -> 43268 | C31: =D30+G30-H30 -> 863.64267 | D31: =C31+(C31*0.03) -> 889.55195 | E31: =C31/3250 -> 0.2657362 | F31: =(D31-C31)/E31 -> 97.5 | I31: =E31*50/C31 -> 0.015384615
B32: =B31+7 -> 43275 | C32: =D31+G31-H31 -> 889.55195 | D32: =C32+(C32*0.03) -> 916.2385 | E32: =C32/3250 -> 0.27370829 | F32: =(D32-C32)/E32 -> 97.5 | H32: =(D32-C19)*0.35 -> 95.762538 | I32: =E32*50/C32 -> 0.015384615 | K32: Alligator Fund Management gives or takes 35% of losses or winnings
A34: 7 | B34: =B32+7 -> 43282 | C34: =D32+G32-H32 -> 820.47597 | D34: =C34+(C34*0.03) -> 845.09024 | E34: =C34/3250 -> 0.25245414 | F34: =(D34-C34)/E34 -> 97.5 | I34: =E34*50/C34 -> 0.015384615
B35: =B34+7 -> 43289 | C35: =D34+G34-H34 -> 845.09024 | D35: =C35+(C35*0.03) -> 870.44295 | E35: =C35/3250 -> 0.26002777 | F35: =(D35-C35)/E35 -> 97.5 | I35: =E35*50/C35 -> 0.015384615
B36: =B35+7 -> 43296 | C36: =D35+G35-H35 -> 870.44295 | D36: =C36+(C36*0.03) -> 896.55624 | E36: =C36/3250 -> 0.2678286 | F36: =(D36-C36)/E36 -> 97.5 | I36: =E36*50/C36 -> 0.015384615
B37: =B36+7 -> 43303 | C37: =D36+G36-H36 -> 896.55624 | D37: =C37+(C37*0.03) -> 923.45293 | E37: =C37/3250 -> 0.27586346 | F37: =(D37-C37)/E37 -> 97.5 | I37: =E37*50/C37 -> 0.015384615
A39: 8 | B39: =B37+7 -> 43310 | C39: =D37+G37-H37 -> 923.45293 | D39: =C39+(C39*0.03) -> 951.15652 | E39: =C39/3250 -> 0.28413936 | F39: =(D39-C39)/E39 -> 97.5 | I39: =E39*50/C39 -> 0.015384615
B40: =B39+7 -> 43317 | C40: =D39+G39-H39 -> 951.15652 | D40: =C40+(C40*0.03) -> 979.69121 | E40: =C40/3250 -> 0.29266354 | F40: =(D40-C40)/E40 -> 97.5 | I40: =E40*50/C40 -> 0.015384615
B41: =B40+7 -> 43324 | C41: =D40+G40-H40 -> 979.69121 | D41: =C41+(C41*0.03) -> 1009.0819 | E41: =C41/3250 -> 0.30144345 | F41: =(D41-C41)/E41 -> 97.5 | I41: =E41*50/C41 -> 0.015384615
B42: =B41+7 -> 43331 | C42: =D41+G41-H41 -> 1009.0819 | D42: =C42+(C42*0.03) -> 1039.3544 | E42: =C42/3250 -> 0.31048675 | F42: =(D42-C42)/E42 -> 97.5 | I42: =E42*50/C42 -> 0.015384615
A44: 9 | B44: =B42+7 -> 43338 | C44: =D42+G42-H42 -> 1039.3544 | D44: =C44+(C44*0.03) -> 1070.535 | E44: =C44/3250 -> 0.31980136 | F44: =(D44-C44)/E44 -> 97.5 | I44: =E44*50/C44 -> 0.015384615
B45: =B44+7 -> 43345 | C45: =D44+G44-H44 -> 1070.535 | D45: =C45+(C45*0.03) -> 1102.6511 | E45: =C45/3250 -> 0.3293954 | F45: =(D45-C45)/E45 -> 97.5 | I45: =E45*50/C45 -> 0.015384615
B46: =B45+7 -> 43352 | C46: =D45+G45-H45 -> 1102.6511 | D46: =C46+(C46*0.03) -> 1135.7306 | E46: =C46/3250 -> 0.33927726 | F46: =(D46-C46)/E46 -> 97.5 | I46: =E46*50/C46 -> 0.015384615
B47: =B46+7 -> 43359 | C47: =D46+G46-H46 -> 1135.7306 | D47: =C47+(C47*0.03) -> 1169.8025 | E47: =C47/3250 -> 0.34945558 | F47: =(D47-C47)/E47 -> 97.5 | H47: =(D47-C34)*0.35 -> 122.2643 | I47: =E47*50/C47 -> 0.015384615 | K47: Alligator Fund Management gives or takes 35% of losses or winnings
A49: 10 | B49: =B47+7 -> 43366 | C49: =D47+G47-H47 -> 1047.5382 | D49: =C49+(C49*0.03) -> 1078.9644 | E49: =C49/3250 -> 0.32231946 | F49: =(D49-C49)/E49 -> 97.5 | I49: =E49*50/C49 -> 0.015384615
B50: =B49+7 -> 43373 | C50: =D49+G49-H49 -> 1078.9644 | D50: =C50+(C50*0.03) -> 1111.3333 | E50: =C50/3250 -> 0.33198904 | F50: =(D50-C50)/E50 -> 97.5 | I50: =E50*50/C50 -> 0.015384615
...

Sheet SharonN_Perfomance
A2: Month | B2: Week | C2: Account | D2: Projected Return | E2: £ | F2: No | G2: Account | H2: Account | I2: MAX Risk | J2: Actual
B3: Commencing | C3: Equity | D3: Equity | E3: Per Pip | F3: Of Pips | G3: Top UP | H3: W/drawal | I3: % Per Trade | J3: % ROI
A4: 1 | B4: 43044 | C4: 500 | D4: =C4+(C4*-0.0353) -> 482.35 | E4: =C4/3000 -> 0.16666667 | F4: =(D4-C4)/E4 -> -105.9 | I4: =E4*50/C4 -> 0.016666667 | J4: =(D4-C4)/C4 -> -0.0353
B5: =B4+7 -> 43051 | C5: =D4+G4-H4 -> 482.35 | D5: =C5+(C5*-0.1562) -> 407.00693 | E5: =C5/3000 -> 0.16078333 | F5: =(D5-C5)/E5 -> -468.6 | I5: =E5*50/C5 -> 0.016666667 | J5: =(D5-C4)/C4 -> -0.18598614
B6: =B5+7 -> 43058 | C6: =D5+G5-H5 -> 407.00693 | D6: =C6+(C6*0.081) -> 439.97449 | E6: =C6/2500 -> 0.16280277 | F6: =(D6-C6)/E6 -> 202.5 | I6: =E6*50/C6 -> 0.02 | J6: =(D6-C4)/C4 -> -0.12005102
B7: =B6+7 -> 43065 | C7: =D6+G6-H6 -> 439.97449 | D7: =C7+(C7*-0.0343) -> 424.88337 | E7: =C7/2500 -> 0.1759898 | F7: =(D7-C7)/E7 -> -85.75 | I7: =E7*50/C7 -> 0.02 | J7: =(D7-C4)/C4 -> -0.15023327
A9: 2 | B9: =B7+7 -> 43072 | C9: =D7+G7-H7 -> 424.88337 | D9: =C9+(C9*0.10018) -> 467.44818 | E9: =C9/3250 -> 0.13073334 | F9: =(D9-C9)/E9 -> 325.585 | I9: =E9*50/C9 -> 0.015384615 | J9: =(D9-C4)/C4 -> -0.065103636
B10: =B9+7 -> 43079 | C10: =D9+G9-H9 -> 467.44818 | D10: =C10+(C10*0.0214) -> 477.45157 | E10: =C10/3250 -> 0.14383021 | F10: =(D10-C10)/E10 -> 69.55 | I10: =E10*50/C10 -> 0.015384615 | J10: =(D10-C4)/C4 -> -0.045096854
B11: =B10+7 -> 43086 | C11: =D10+G10-H10 -> 477.45157 | D11: =C11+(C11*0.0087) -> 481.6054 | E11: =C11/3250 -> 0.14690818 | F11: =(D11-C11)/E11 -> 28.275 | I11: =E11*50/C11 -> 0.015384615 | J11: =(D11-C4)/C4 -> -0.036789197
B12: =B11+7 -> 43093 | C12: =D11+G11-H11 -> 481.6054 | D12: =C12+(C12*0) -> 481.6054 | E12: =C12/3250 -> 0.14818628 | F12: =(D12-C12)/E12 -> 0 | I12: =E12*50/C12 -> 0.015384615 | J12: =(D12-C4)/C4 -> -0.036789197
A14: 3 | B14: =B12+7 -> 43100 | C14: =D12+G12-H12 -> 481.6054 | D14: =C14+(C14*0) -> 481.6054 | E14: =C14/3250 -> 0.14818628 | F14: =(D14-C14)/E14 -> 0 | I14: =E14*50/C14 -> 0.015384615 | J14: =(D14-C4)/C4 -> -0.036789197
B15: =B14+7 -> 43107 | C15: =D14+G14-H14 -> 481.6054 | D15: =C15+(C15*-0.0579) -> 453.72045 | E15: =C15/3250 -> 0.14818628 | F15: =(D15-C15)/E15 -> -188.175 | I15: =E15*50/C15 -> 0.015384615 | J15: =(D15-C4)/C4 -> -0.092559102
B16: =B15+7 -> 43114 | C16: =D15+G15-H15 -> 453.72045 | D16: =C16+(C16*-0.1565) -> 382.7132 | E16: =C16/3250 -> 0.13960629 | F16: =(D16-C16)/E16 -> -508.625 | I16: =E16*50/C16 -> 0.015384615 | J16: =(D16-C4)/C4 -> -0.2345736
B17: =B16+7 -> 43121 | C17: =D16+G16-H16 -> 382.7132 | D17: =C17+(C17*-0.2248) -> 296.67927 | E17: =C17/3250 -> 0.11775791 | F17: =(D17-C17)/E17 -> -730.6 | H17: =(D17-C4)*0.3 -> -60.996219 | I17: =E17*50/C17 -> 0.015384615 | J17: =(D17-C4)/C4 -> -0.40664146 | K17: Alligator Fund Management gives or takes 30% of losses or winnings
A19: 4 | B19: =B17+7 -> 43128 | C19: =D17+G17-H17 -> 357.67549 | D19: =C19+(C19*-0.05845) -> 336.76936 | E19: =C19/3250 -> 0.110054 | F19: =(D19-C19)/E19 -> -189.9625 | I19: =E19*50/C19 -> 0.015384615 | J19: =(D19-C4)/C4 -> -0.32646128
B20: =B19+7 -> 43135 | C20: =D19+G19-H19 -> 336.76936 | D20: =C20+(C20*0) -> 336.76936 | E20: =C20/3250 -> 0.10362134 | F20: =(D20-C20)/E20 -> 0 | I20: =E20*50/C20 -> 0.015384615 | J20: =(D20-C4)/C4 -> -0.32646128
B21: =B20+7 -> 43142 | C21: =D20+G20-H20 -> 336.76936 | D21: =C21+(C21*0.0028) -> 337.71231 | E21: =C21/3250 -> 0.10362134 | F21: =(D21-C21)/E21 -> 9.1 | I21: =E21*50/C21 -> 0.015384615 | J21: =(D21-C4)/C4 -> -0.32457538
B22: =B21+7 -> 43149 | C22: =D21+G21-H21 -> 337.71231 | D22: =C22+(C22*0.1878) -> 401.13468 | E22: =C22/3250 -> 0.10391148 | F22: =(D22-C22)/E22 -> 610.35 | I22: =E22*50/C22 -> 0.015384615 | J22: =(D22-C4)/C4 -> -0.19773063
A24: 5 | B24: =B22+7 -> 43156 | C24: =D22+G22-H22 -> 401.13468 | D24: =C24+(C24*-0.7842) -> 86.564865 | E24: =C24/3250 -> 0.12342606 | F24: =(D24-C24)/E24 -> -2548.65 | I24: =E24*50/C24 -> 0.015384615 | J24: =(D24-C4)/C4 -> -0.82687027
B25: =B24+7 -> 43163 | C25: =D24+G24-H24 -> 86.564865 | D25: =C25+(C25*0.03) -> 89.161811 | E25: =C25/3250 -> 0.026635343 | F25: =(D25-C25)/E25 -> 97.5 | I25: =E25*50/C25 -> 0.015384615
B26: =B25+7 -> 43170 | C26: =D25+G25-H25 -> 89.161811 | D26: =C26+(C26*0.03) -> 91.836665 | E26: =C26/3250 -> 0.027434403 | F26: =(D26-C26)/E26 -> 97.5 | I26: =E26*50/C26 -> 0.015384615
B27: =B26+7 -> 43177 | C27: =D26+G26-H26 -> 91.836665 | D27: =C27+(C27*0.03) -> 94.591765 | E27: =C27/3250 -> 0.028257435 | F27: =(D27-C27)/E27 -> 97.5 | I27: =E27*50/C27 -> 0.015384615
A29: 6 | B29: =B27+7 -> 43184 | C29: =D27+G27-H27 -> 94.591765 | D29: =C29+(C29*0.03) -> 97.429518 | E29: =C29/3250 -> 0.029105158 | F29: =(D29-C29)/E29 -> 97.5 | I29: =E29*50/C29 -> 0.015384615
B30: =B29+7 -> 43191 | C30: =D29+G29-H29 -> 97.429518 | D30: =C30+(C30*0.03) -> 100.3524 | E30: =C30/3250 -> 0.029978313 | F30: =(D30-C30)/E30 -> 97.5 | I30: =E30*50/C30 -> 0.015384615
B31: =B30+7 -> 43198 | C31: =D30+G30-H30 -> 100.3524 | D31: =C31+(C31*0.03) -> 103.36298 | E31: =C31/3250 -> 0.030877663 | F31: =(D31-C31)/E31 -> 97.5 | I31: =E31*50/C31 -> 0.015384615
B32: =B31+7 -> 43205 | C32: =D31+G31-H31 -> 103.36298 | D32: =C32+(C32*0.03) -> 106.46386 | E32: =C32/3250 -> 0.031803993 | F32: =(D32-C32)/E32 -> 97.5 | H32: =(D32-C19)*0.35 -> -87.924069 | I32: =E32*50/C32 -> 0.015384615 | K32: Alligator Fund Management gives or takes 35% of losses or winnings
A34: 7 | B34: =B32+7 -> 43212 | C34: =D32+G32-H32 -> 194.38793 | D34: =C34+(C34*0.03) -> 200.21957 | E34: =C34/3250 -> 0.059811672 | F34: =(D34-C34)/E34 -> 97.5 | I34: =E34*50/C34 -> 0.015384615
B35: =B34+7 -> 43219 | C35: =D34+G34-H34 -> 200.21957 | D35: =C35+(C35*0.03) -> 206.22616 | E35: =C35/3250 -> 0.061606022 | F35: =(D35-C35)/E35 -> 97.5 | I35: =E35*50/C35 -> 0.015384615
B36: =B35+7 -> 43226 | C36: =D35+G35-H35 -> 206.22616 | D36: =C36+(C36*0.03) -> 212.41294 | E36: =C36/3250 -> 0.063454203 | F36: =(D36-C36)/E36 -> 97.5 | I36: =E36*50/C36 -> 0.015384615
B37: =B36+7 -> 43233 | C37: =D36+G36-H36 -> 212.41294 | D37: =C37+(C37*0.03) -> 218.78533 | E37: =C37/3250 -> 0.065357829 | F37: =(D37-C37)/E37 -> 97.5 | I37: =E37*50/C37 -> 0.015384615
A39: 8 | B39: =B37+7 -> 43240 | C39: =D37+G37-H37 -> 218.78533 | D39: =C39+(C39*0.03) -> 225.34889 | E39: =C39/3250 -> 0.067318564 | F39: =(D39-C39)/E39 -> 97.5 | I39: =E39*50/C39 -> 0.015384615
B40: =B39+7 -> 43247 | C40: =D39+G39-H39 -> 225.34889 | D40: =C40+(C40*0.03) -> 232.10936 | E40: =C40/3250 -> 0.069338121 | F40: =(D40-C40)/E40 -> 97.5 | I40: =E40*50/C40 -> 0.015384615
B41: =B40+7 -> 43254 | C41: =D40+G40-H40 -> 232.10936 | D41: =C41+(C41*0.03) -> 239.07264 | E41: =C41/3250 -> 0.071418264 | F41: =(D41-C41)/E41 -> 97.5 | I41: =E41*50/C41 -> 0.015384615
B42: =B41+7 -> 43261 | C42: =D41+G41-H41 -> 239.07264 | D42: =C42+(C42*0.03) -> 246.24482 | E42: =C42/3250 -> 0.073560812 | F42: =(D42-C42)/E42 -> 97.5 | I42: =E42*50/C42 -> 0.015384615
A44: 9 | B44: =B42+7 -> 43268 | C44: =D42+G42-H42 -> 246.24482 | D44: =C44+(C44*0.03) -> 253.63216 | E44: =C44/3250 -> 0.075767637 | F44: =(D44-C44)/E44 -> 97.5 | I44: =E44*50/C44 -> 0.015384615
B45: =B44+7 -> 43275 | C45: =D44+G44-H44 -> 253.63216 | D45: =C45+(C45*0.03) -> 261.24113 | E45: =C45/3250 -> 0.078040666 | F45: =(D45-C45)/E45 -> 97.5 | I45: =E45*50/C45 -> 0.015384615
B46: =B45+7 -> 43282 | C46: =D45+G45-H45 -> 261.24113 | D46: =C46+(C46*0.03) -> 269.07836 | E46: =C46/3250 -> 0.080381886 | F46: =(D46-C46)/E46 -> 97.5 | I46: =E46*50/C46 -> 0.015384615
B47: =B46+7 -> 43289 | C47: =D46+G46-H46 -> 269.07836 | D47: =C47+(C47*0.03) -> 277.15071 | E47: =C47/3250 -> 0.082793342 | F47: =(D47-C47)/E47 -> 97.5 | H47: =(D47-C34)*0.35 -> 28.966973 | I47: =E47*50/C47 -> 0.015384615 | K47: Alligator Fund Management gives or takes 35% of losses or winnings
A49: 10 | B49: =B47+7 -> 43296 | C49: =D47+G47-H47 -> 248.18374 | D49: =C49+(C49*0.03) -> 255.62925 | E49: =C49/3250 -> 0.076364228 | F49: =(D49-C49)/E49 -> 97.5 | I49: =E49*50/C49 -> 0.015384615
B50: =B49+7 -> 43303 | C50: =D49+G49-H49 -> 255.62925 | D50: =C50+(C50*0.03) -> 263.29813 | E50: =C50/3250 -> 0.078655155 | F50: =(D50-C50)/E50 -> 97.5 | I50: =E50*50/C50 -> 0.015384615
...

Sheet RichS_Perfomance
A2: Month | B2: Week | C2: Account | D2: Projected Return | E2: £ | F2: No | G2: Account | H2: Account | I2: MAX Risk | J2: Actual
B3: Commencing | C3: Equity | D3: Equity | E3: Per Pip | F3: Of Pips | G3: Top UP | H3: W/drawal | I3: % Per Trade | J3: % ROI
A4: 1 | B4: 42960 | C4: 1000 | D4: =C4+(C4*-0.02) -> 980 | E4: =C4/3250 -> 0.30769231 | F4: =(D4-C4)/E4 -> -65 | I4: =E4*50/C4 -> 0.015384615 | J4: =(D4-C4)/C4 -> -0.02
B5: =B4+7 -> 42967 | C5: =D4+G4-H4 -> 980 | D5: =C5+(C5*0.0596) -> 1038.408 | E5: =C5/3250 -> 0.30153846 | F5: =(D5-C5)/E5 -> 193.7 | I5: =E5*50/C5 -> 0.015384615 | J5: =(D5-C4)/C4 -> 0.038408
B6: =B5+7 -> 42974 | C6: =D5+G5-H5 -> 1038.408 | D6: =C6+(C6*-0.0884) -> 946.61273 | E6: =C6/3250 -> 0.31951015 | F6: =(D6-C6)/E6 -> -287.3 | I6: =E6*50/C6 -> 0.015384615 | J6: =(D6-C4)/C4 -> -0.053387267
B7: =B6+7 -> 42981 | C7: =D6+G6-H6 -> 946.61273 | D7: =C7+(C7*-0.0583) -> 891.42521 | E7: =C7/5500 -> 0.17211141 | F7: =(D7-C7)/E7 -> -320.65 | I7: =E7*50/C7 -> 0.0090909091 | J7: =(D7-C4)/C4 -> -0.10857479
A9: 2 | B9: =B7+7 -> 42988 | C9: =D7+G7-H7 -> 891.42521 | D9: =C9+(C9*0.1119) -> 991.17569 | E9: =C9/5500 -> 0.16207731 | F9: =(D9-C9)/E9 -> 615.45 | I9: =E9*50/C9 -> 0.0090909091 | J9: =(D9-C4)/C4 -> -0.0088243085
B10: =B9+7 -> 42995 | C10: =D9+G9-H9 -> 991.17569 | D10: =C10+(C10*-0.073) -> 918.81987 | E10: =C10/5500 -> 0.18021376 | F10: =(D10-C10)/E10 -> -401.5 | I10: =E10*50/C10 -> 0.0090909091 | J10: =(D10-C4)/C4 -> -0.081180134
B11: =B10+7 -> 43002 | C11: =D10+G10-H10 -> 918.81987 | D11: =C11+(C11*-0.0103) -> 909.35602 | E11: =C11/5500 -> 0.16705816 | F11: =(D11-C11)/E11 -> -56.65 | I11: =E11*50/C11 -> 0.0090909091 | J11: =(D11-C4)/C4 -> -0.090643979
B12: =B11+7 -> 43009 | C12: =D11+G11-H11 -> 909.35602 | D12: =C12+(C12*-0.0544) -> 859.88705 | E12: =C12/5500 -> 0.16533746 | F12: =(D12-C12)/E12 -> -299.2 | I12: =E12*50/C12 -> 0.0090909091 | J12: =(D12-C4)/C4 -> -0.14011295
A14: 3 | B14: =B12+7 -> 43016 | C14: =D12+G12-H12 -> 859.88705 | D14: =C14+(C14*-0.0579) -> 810.09959 | E14: =C14/3000 -> 0.28662902 | F14: =(D14-C14)/E14 -> -173.7 | I14: =E14*50/C14 -> 0.016666667 | J14: =(D14-C4)/C4 -> -0.18990041
B15: =B14+7 -> 43023 | C15: =D14+G14-H14 -> 810.09959 | D15: =C15+(C15*0.0774) -> 872.8013 | E15: =C15/3000 -> 0.2700332 | F15: =(D15-C15)/E15 -> 232.2 | I15: =E15*50/C15 -> 0.016666667 | J15: =(D15-C4)/C4 -> -0.1271987
B16: =B15+7 -> 43030 | C16: =D15+G15-H15 -> 872.8013 | D16: =C16+(C16*0.0717) -> 935.38116 | E16: =C16/3000 -> 0.29093377 | F16: =(D16-C16)/E16 -> 215.1 | I16: =E16*50/C16 -> 0.016666667 | J16: =(D16-C4)/C4 -> -0.064618845
B17: =B16+7 -> 43037 | C17: =D16+G16-H16 -> 935.38116 | D17: =C17+(C17*0.09) -> 1019.5655 | E17: =C17/3000 -> 0.31179372 | F17: =(D17-C17)/E17 -> 270 | H17: =(D17-C4)*0.3 -> 5.8696378 | I17: =E17*50/C17 -> 0.016666667 | J17: =(C19-C4)/C4 -> 0.013695822 | K17: Alligator Fund Management gives or takes 30% of losses or winnings
A19: 4 | B19: =B17+7 -> 43044 | C19: =D17+G17-H17 -> 1013.6958 | D19: =C19+(C19*-0.0353) -> 977.91236 | E19: =C19/3000 -> 0.33789861 | F19: =(D19-C19)/E19 -> -105.9 | I19: =E19*50/C19 -> 0.016666667 | J19: =(D19-C4)/C4 -> -0.022087641
B20: =B19+7 -> 43051 | C20: =D19+G19-H19 -> 977.91236 | D20: =C20+(C20*-0.1562) -> 825.16245 | E20: =C20/3000 -> 0.32597079 | F20: =(D20-C20)/E20 -> -468.6 | I20: =E20*50/C20 -> 0.016666667 | J20: =(D20-C4)/C4 -> -0.17483755
B21: =B20+7 -> 43058 | C21: =D20+G20-H20 -> 825.16245 | D21: =C21+(C21*0.081) -> 892.00061 | E21: =C21/2500 -> 0.33006498 | F21: =(D21-C21)/E21 -> 202.5 | I21: =E21*50/C21 -> 0.02 | J21: =(D21-C4)/C4 -> -0.10799939
B22: =B21+7 -> 43065 | C22: =D21+G21-H21 -> 892.00061 | D22: =C22+(C22*-0.0343) -> 861.40499 | E22: =C22/2500 -> 0.35680024 | F22: =(D22-C22)/E22 -> -85.75 | I22: =E22*50/C22 -> 0.02 | J22: =(D22-C4)/C4 -> -0.13859501
A24: 5 | B24: =B22+7 -> 43072 | C24: =D22+G22-H22 -> 861.40499 | D24: =C24+(C24*0.10018) -> 947.70054 | E24: =C24/3250 -> 0.26504769 | F24: =(D24-C24)/E24 -> 325.585 | I24: =E24*50/C24 -> 0.015384615 | J24: =(D24-C4)/C4 -> -0.052299462
B25: =B24+7 -> 43079 | C25: =D24+G24-H24 -> 947.70054 | D25: =C25+(C25*0.0214) -> 967.98133 | E25: =C25/3250 -> 0.29160017 | F25: =(D25-C25)/E25 -> 69.55 | I25: =E25*50/C25 -> 0.015384615 | J25: =(D25-C4)/C4 -> -0.032018671
B26: =B25+7 -> 43086 | C26: =D25+G25-H25 -> 967.98133 | D26: =C26+(C26*0.0087) -> 976.40277 | E26: =C26/3250 -> 0.29784041 | F26: =(D26-C26)/E26 -> 28.275 | I26: =E26*50/C26 -> 0.015384615 | J26: =(D26-C4)/C4 -> -0.023597233
B27: =B26+7 -> 43093 | C27: =D26+G26-H26 -> 976.40277 | D27: =C27+(C27*0) -> 976.40277 | E27: =C27/3250 -> 0.30043162 | F27: =(D27-C27)/E27 -> 0 | I27: =E27*50/C27 -> 0.015384615 | J27: =(D27-C4)/C4 -> -0.023597233
A29: 6 | B29: =B27+7 -> 43100 | C29: =D27+G27-H27 -> 976.40277 | D29: =C29+(C29*0) -> 976.40277 | E29: =C29/3250 -> 0.30043162 | F29: =(D29-C29)/E29 -> 0 | I29: =E29*50/C29 -> 0.015384615 | J29: =(D29-C4)/C4 -> -0.023597233
B30: =B29+7 -> 43107 | C30: =D29+G29-H29 -> 976.40277 | D30: =C30+(C30*-0.0579) -> 919.86905 | E30: =C30/3250 -> 0.30043162 | F30: =(D30-C30)/E30 -> -188.175 | I30: =E30*50/C30 -> 0.015384615 | J30: =(D30-C5)/C5 -> -0.061358116
B31: =B30+7 -> 43114 | C31: =D30+G30-H30 -> 919.86905 | D31: =C31+(C31*-0.1565) -> 775.90954 | E31: =C31/3250 -> 0.28303663 | F31: =(D31-C31)/E31 -> -508.625 | I31: =E31*50/C31 -> 0.015384615 | J31: =(D31-C4)/C4 -> -0.22409046
B32: =B31+7 -> 43121 | C32: =D31+G31-H31 -> 775.90954 | D32: =C32+(C32*-0.2248) -> 601.48508 | E32: =C32/3250 -> 0.2387414 | F32: =(D32-C32)/E32 -> -730.6 | H32: =(D32-C19)*0.35 -> -144.27376 | I32: =E32*50/C32 -> 0.015384615 | J32: =(D32-C4)/C4 -> -0.39851492 | K32: Alligator Fund Management gives or takes 35% of losses or winnings
A34: 7 | B34: =B32+7 -> 43128 | C34: =D32+G32-H32 -> 745.75884 | D34: =C34+(C34*-0.05845) -> 702.16923 | E34: =C34/3250 -> 0.22946426 | F34: =(D34-C34)/E34 -> -189.9625 | I34: =E34*50/C34 -> 0.015384615 | J34: =(D34-C4)/C4 -> -0.29783077
B35: =B34+7 -> 43135 | C35: =D34+G34-H34 -> 702.16923 | D35: =C35+(C35*0) -> 702.16923 | E35: =C35/3250 -> 0.21605207 | F35: =(D35-C35)/E35 -> 0 | I35: =E35*50/C35 -> 0.015384615 | J35: =(D35-C4)/C4 -> -0.29783077
B36: =B35+7 -> 43142 | C36: =D35+G35-H35 -> 702.16923 | D36: =C36+(C36*0.0028) -> 704.13531 | E36: =C36/3250 -> 0.21605207 | F36: =(D36-C36)/E36 -> 9.1 | I36: =E36*50/C36 -> 0.015384615 | J36: =(D36-C4)/C4 -> -0.29586469
B37: =B36+7 -> 43149 | C37: =D36+G36-H36 -> 704.13531 | D37: =C37+(C37*0.1878) -> 836.37192 | E37: =C37/3250 -> 0.21665702 | F37: =(D37-C37)/E37 -> 610.35 | I37: =E37*50/C37 -> 0.015384615 | J37: =(D37-C4)/C4 -> -0.16362808
A39: 8 | B39: =B37+7 -> 43156 | C39: =D37+G37-H37 -> 836.37192 | D39: =C39+(C39*-0.7842) -> 180.48906 | E39: =C39/3250 -> 0.25734521 | F39: =(D39-C39)/E39 -> -2548.65 | I39: =E39*50/C39 -> 0.015384615 | J39: =(D39-C4)/C4 -> -0.81951094
B40: =B39+7 -> 43163 | C40: =D39+G39-H39 -> 180.48906 | D40: =C40+(C40*0.03) -> 185.90373 | E40: =C40/3250 -> 0.055535095 | F40: =(D40-C40)/E40 -> 97.5 | I40: =E40*50/C40 -> 0.015384615
B41: =B40+7 -> 43170 | C41: =D40+G40-H40 -> 185.90373 | D41: =C41+(C41*0.03) -> 191.48084 | E41: =C41/3250 -> 0.057201148 | F41: =(D41-C41)/E41 -> 97.5 | I41: =E41*50/C41 -> 0.015384615
B42: =B41+7 -> 43177 | C42: =D41+G41-H41 -> 191.48084 | D42: =C42+(C42*0.03) -> 197.22527 | E42: =C42/3250 -> 0.058917183 | F42: =(D42-C42)/E42 -> 97.5 | I42: =E42*50/C42 -> 0.015384615
A44: 9 | B44: =B42+7 -> 43184 | C44: =D42+G42-H42 -> 197.22527 | D44: =C44+(C44*0.03) -> 203.14203 | E44: =C44/3250 -> 0.060684698 | F44: =(D44-C44)/E44 -> 97.5 | I44: =E44*50/C44 -> 0.015384615
B45: =B44+7 -> 43191 | C45: =D44+G44-H44 -> 203.14203 | D45: =C45+(C45*0.03) -> 209.23629 | E45: =C45/3250 -> 0.062505239 | F45: =(D45-C45)/E45 -> 97.5 | I45: =E45*50/C45 -> 0.015384615
B46: =B45+7 -> 43198 | C46: =D45+G45-H45 -> 209.23629 | D46: =C46+(C46*0.03) -> 215.51338 | E46: =C46/3250 -> 0.064380396 | F46: =(D46-C46)/E46 -> 97.5 | I46: =E46*50/C46 -> 0.015384615
B47: =B46+7 -> 43205 | C47: =D46+G46-H46 -> 215.51338 | D47: =C47+(C47*0.03) -> 221.97878 | E47: =C47/3250 -> 0.066311808 | F47: =(D47-C47)/E47 -> 97.5 | H47: =(D47-C34)*0.35 -> -183.32302 | I47: =E47*50/C47 -> 0.015384615 | K47: Alligator Fund Management gives or takes 35% of losses or winnings
A49: 10 | B49: =B47+7 -> 43212 | C49: =D47+G47-H47 -> 405.3018 | D49: =C49+(C49*0.03) -> 417.46085 | E49: =C49/3250 -> 0.12470825 | F49: =(D49-C49)/E49 -> 97.5 | I49: =E49*50/C49 -> 0.015384615
B50: =B49+7 -> 43219 | C50: =D49+G49-H49 -> 417.46085 | D50: =C50+(C50*0.03) -> 429.98468 | E50: =C50/3250 -> 0.12844949 | F50: =(D50-C50)/E50 -> 97.5 | I50: =E50*50/C50 -> 0.015384615
...

Sheet BrianM_Perfomance
A2: Month | B2: Week | C2: Account | D2: Projected Return | E2: £ | F2: No | G2: Account | H2: Account | I2: MAX Risk | J2: Actual
B3: Commencing | C3: Equity | D3: Equity | E3: Per Pip | F3: Of Pips | G3: Top UP | H3: W/drawal | I3: % Per Trade | J3: % ROI
A4: 1 | B4: 42946 | C4: 1492 | D4: =C4+(C4*-0.0045) -> 1485.286 | E4: =C4/3250 -> 0.45907692 | F4: =(D4-C4)/E4 -> -14.625 | I4: =E4*50/C4 -> 0.015384615 | J4: =(D4-C4)/C4 -> -0.0045
B5: =B4+7 -> 42953 | C5: =D4+G4-H4 -> 1485.286 | D5: =C5+(C5*-0.0326) -> 1436.8657 | E5: =C5/3250 -> 0.45701108 | F5: =(D5-C5)/E5 -> -105.95 | I5: =E5*50/C5 -> 0.015384615 | J5: =(D5-C4)/C4 -> -0.0369533
B6: =B5+7 -> 42960 | C6: =D5+G5-H5 -> 1436.8657 | D6: =C6+(C6*-0.02) -> 1408.1284 | E6: =C6/3250 -> 0.44211252 | F6: =(D6-C6)/E6 -> -65 | I6: =E6*50/C6 -> 0.015384615 | J6: =(D6-C4)/C4 -> -0.056214234
B7: =B6+7 -> 42967 | C7: =D6+G6-H6 -> 1408.1284 | D7: =C7+(C7*0.0596) -> 1492.0528 | E7: =C7/3250 -> 0.43327027 | F7: =(D7-C7)/E7 -> 193.7 | I7: =E7*50/C7 -> 0.015384615 | J7: =(D7-C4)/C4 -> 3.5397654e-05
A9: 2 | B9: =B7+7 -> 42974 | C9: =D7+G7-H7 -> 1492.0528 | D9: =C9+(C9*-0.0884) -> 1360.1553 | E9: =C9/3250 -> 0.45909317 | F9: =(D9-C9)/E9 -> -287.3 | I9: =E9*50/C9 -> 0.015384615 | J9: =(D9-C4)/C4 -> -0.088367731
B10: =B9+7 -> 42981 | C10: =D9+G9-H9 -> 1360.1553 | D10: =C10+(C10*-0.0583) -> 1280.8583 | E10: =C10/5500 -> 0.24730097 | F10: =(D10-C10)/E10 -> -320.65 | I10: =E10*50/C10 -> 0.0090909091 | J10: =(D10-C4)/C4 -> -0.14151589
B11: =B10+7 -> 42988 | C11: =D10+G10-H10 -> 1280.8583 | D11: =C11+(C11*0.1119) -> 1424.1863 | E11: =C11/5500 -> 0.23288333 | F11: =(D11-C11)/E11 -> 615.45 | I11: =E11*50/C11 -> 0.0090909091 | J11: =(D11-C4)/C4 -> -0.045451521
B12: =B11+7 -> 42995 | C12: =D11+G11-H11 -> 1424.1863 | D12: =C12+(C12*-0.073) -> 1320.2207 | E12: =C12/5500 -> 0.25894297 | F12: =(D12-C12)/E12 -> -401.5 | I12: =E12*50/C12 -> 0.0090909091 | J12: =(D12-C4)/C4 -> -0.11513356
A14: 3 | B14: =B12+7 -> 43002 | C14: =D12+G12-H12 -> 1320.2207 | D14: =C14+(C14*-0.0103) -> 1306.6225 | E14: =C14/5500 -> 0.24004013 | F14: =(D14-C14)/E14 -> -56.65 | I14: =E14*50/C14 -> 0.0090909091 | J14: =(D14-C4)/C4 -> -0.12424768
B15: =B14+7 -> 43009 | C15: =D14+G14-H14 -> 1306.6225 | D15: =C15+(C15*-0.0544) -> 1235.5422 | E15: =C15/5500 -> 0.23756772 | F15: =(D15-C15)/E15 -> -299.2 | I15: =E15*50/C15 -> 0.0090909091 | J15: =(D15-C4)/C4 -> -0.17188861
B16: =B15+7 -> 43016 | C16: =D15+G15-H15 -> 1235.5422 | D16: =C16+(C16*-0.0579) -> 1164.0043 | E16: =C16/3000 -> 0.4118474 | F16: =(D16-C16)/E16 -> -173.7 | I16: =E16*50/C16 -> 0.016666667 | J16: =(D16-C4)/C4 -> -0.21983626
B17: =B16+7 -> 43023 | C17: =D16+G16-H16 -> 1164.0043 | D17: =C17+(C17*0.0774) -> 1254.0982 | E17: =C17/3000 -> 0.38800143 | F17: =(D17-C17)/E17 -> 232.2 | H17: =(D17-C4)*0.3 -> -71.37053 | I17: =E17*50/C17 -> 0.016666667 | J17: =(C19-C4)/C4 -> -0.11161611 | K17: Alligator Fund Management gives or takes 30% of losses or winnings
A19: 4 | B19: =B17+7 -> 43030 | C19: =D17+G17-H17 -> 1325.4688 | D19: =C19+(C19*0.0717) -> 1420.5049 | E19: =C19/3000 -> 0.44182292 | F19: =(D19-C19)/E19 -> 215.1 | I19: =E19*50/C19 -> 0.016666667 | J19: =(D19-C4)/C4 -> -0.047918986
B20: =B19+7 -> 43037 | C20: =D19+G19-H19 -> 1420.5049 | D20: =C20+(C20*0.09) -> 1548.3503 | E20: =C20/3000 -> 0.47350162 | F20: =(D20-C20)/E20 -> 270 | I20: =E20*50/C20 -> 0.016666667 | J20: =(D20-C4)/C4 -> 0.037768306
B21: =B20+7 -> 43044 | C21: =D20+G20-H20 -> 1548.3503 | D21: =C21+(C21*-0.0353) -> 1493.6935 | E21: =C21/3000 -> 0.51611677 | F21: =(D21-C21)/E21 -> -105.9 | I21: =E21*50/C21 -> 0.016666667 | J21: =(D21-C4)/C4 -> 0.0011350845
B22: =B21+7 -> 43051 | C22: =D21+G21-H21 -> 1493.6935 | D22: =C22+(C22*-0.1562) -> 1260.3786 | E22: =C22/3000 -> 0.49789785 | F22: =(D22-C22)/E22 -> -468.6 | I22: =E22*50/C22 -> 0.016666667 | J22: =(D22-C4)/C4 -> -0.15524222
A24: 5 | B24: =B22+7 -> 43058 | C24: =D22+G22-H22 -> 1260.3786 | D24: =C24+(C24*0.081) -> 1362.4693 | E24: =C24/2500 -> 0.50415145 | F24: =(D24-C24)/E24 -> 202.5 | I24: =E24*50/C24 -> 0.02 | J24: =(D24-C4)/C4 -> -0.086816835
B25: =B24+7 -> 43065 | C25: =D24+G24-H24 -> 1362.4693 | D25: =C25+(C25*-0.0343) -> 1315.7366 | E25: =C25/2500 -> 0.54498771 | F25: =(D25-C25)/E25 -> -85.75 | I25: =E25*50/C25 -> 0.02 | J25: =(D25-C4)/C4 -> -0.11813902
B26: =B25+7 -> 43072 | C26: =D25+G25-H25 -> 1315.7366 | D26: =C26+(C26*0.10018) -> 1447.5471 | E26: =C26/3250 -> 0.40484203 | F26: =(D26-C26)/E26 -> 325.585 | I26: =E26*50/C26 -> 0.015384615 | J26: =(D26-C4)/C4 -> -0.029794184
B27: =B26+7 -> 43079 | C27: =D26+G26-H26 -> 1447.5471 | D27: =C27+(C27*0.0214) -> 1478.5246 | E27: =C27/3250 -> 0.4453991 | F27: =(D27-C27)/E27 -> 69.55 | I27: =E27*50/C27 -> 0.015384615 | J27: =(D27-C4)/C4 -> -0.00903178
A29: 6 | B29: =B27+7 -> 43086 | C29: =D27+G27-H27 -> 1478.5246 | D29: =C29+(C29*0.0087) -> 1491.3877 | E29: =C29/3250 -> 0.45493064 | F29: =(D29-C29)/E29 -> 28.275 | I29: =E29*50/C29 -> 0.015384615 | J29: =(D29-C4)/C4 -> -0.00041035653
B30: =B29+7 -> 43093 | C30: =D29+G29-H29 -> 1491.3877 | D30: =C30+(C30*0) -> 1491.3877 | E30: =C30/3250 -> 0.45888854 | F30: =(D30-C30)/E30 -> 0 | I30: =E30*50/C30 -> 0.015384615 | J30: =(D30-C4)/C4 -> -0.00041035653
B31: =B30+7 -> 43100 | C31: =D30+G30-H30 -> 1491.3877 | D31: =C31+(C31*0) -> 1491.3877 | E31: =C31/3250 -> 0.45888854 | F31: =(D31-C31)/E31 -> 0 | I31: =E31*50/C31 -> 0.015384615 | J31: =(D31-C4)/C4 -> -0.00041035653
B32: =B31+7 -> 43107 | C32: =D31+G31-H31 -> 1491.3877 | D32: =C32+(C32*-0.0579) -> 1405.0364 | E32: =C32/3250 -> 0.45888854 | F32: =(D32-C32)/E32 -> -188.175 | H32: =(D32-C19)*0.35 -> 27.848672 | I32: =E32*50/C32 -> 0.015384615 | J32: =(D32-C4)/C4 -> -0.058286597 | K32: Alligator Fund Management gives or takes 35% of losses or winnings
A34: 7 | B34: =B32+7 -> 43114 | C34: =D32+G32-H32 -> 1377.1877 | D34: =C34+(C34*-0.1565) -> 1161.6578 | E34: =C34/3250 -> 0.42375007 | F34: =(D34-C34)/E34 -> -508.625 | I34: =E34*50/C34 -> 0.015384615 | J34: =(D34-C4)/C4 -> -0.22140895
B35: =B34+7 -> 43121 | C35: =D34+G34-H34 -> 1161.6578 | D35: =C35+(C35*-0.2248) -> 900.51716 | E35: =C35/3250 -> 0.35743318 | F35: =(D35-C35)/E35 -> -730.6 | I35: =E35*50/C35 -> 0.015384615 | J35: =(D35-C4)/C4 -> -0.39643622
B36: =B35+7 -> 43128 | C36: =D35+G35-H35 -> 900.51716 | D36: =C36+(C36*-0.05845) -> 847.88193 | E36: =C36/3250 -> 0.2770822 | F36: =(D36-C36)/E36 -> -189.9625 | I36: =E36*50/C36 -> 0.015384615 | J36: =(D36-C4)/C4 -> -0.43171452
B37: =B36+7 -> 43135 | C37: =D36+G36-H36 -> 847.88193 | D37: =C37+(C37*0) -> 847.88193 | E37: =C37/3250 -> 0.26088675 | F37: =(D37-C37)/E37 -> 0 | I37: =E37*50/C37 -> 0.015384615 | J37: =(D37-C4)/C4 -> -0.43171452
A39: 8 | B39: =B37+7 -> 43142 | C39: =D37+G37-H37 -> 847.88193 | D39: =C39+(C39*0.0028) -> 850.256 | E39: =C39/3250 -> 0.26088675 | F39: =(D39-C39)/E39 -> 9.1 | I39: =E39*50/C39 -> 0.015384615 | J39: =(D39-C4)/C4 -> -0.43012332
B40: =B39+7 -> 43149 | C40: =D39+G39-H39 -> 850.256 | D40: =C40+(C40*0.1878) -> 1009.9341 | E40: =C40/3250 -> 0.26161723 | F40: =(D40-C40)/E40 -> 610.35 | I40: =E40*50/C40 -> 0.015384615 | J40: =(D40-C4)/C4 -> -0.32310048
B41: =B40+7 -> 43156 | C41: =D40+G40-H40 -> 1009.9341 | D41: =C41+(C41*-0.7842) -> 217.94377 | E41: =C41/3250 -> 0.31074895 | F41: =(D41-C41)/E41 -> -2548.65 | I41: =E41*50/C41 -> 0.015384615 | J41: =(D41-C4)/C4 -> -0.85392508
B42: =B41+7 -> 43163 | C42: =D41+G41-H41 -> 217.94377 | D42: =C42+(C42*0.03) -> 224.48209 | E42: =C42/3250 -> 0.067059623 | F42: =(D42-C42)/E42 -> 97.5 | I42: =E42*50/C42 -> 0.015384615
A44: 9 | B44: =B42+7 -> 43170 | C44: =D42+G42-H42 -> 224.48209 | D44: =C44+(C44*0.03) -> 231.21655 | E44: =C44/3250 -> 0.069071412 | F44: =(D44-C44)/E44 -> 97.5 | I44: =E44*50/C44 -> 0.015384615
B45: =B44+7 -> 43177 | C45: =D44+G44-H44 -> 231.21655 | D45: =C45+(C45*0.03) -> 238.15305 | E45: =C45/3250 -> 0.071143554 | F45: =(D45-C45)/E45 -> 97.5 | I45: =E45*50/C45 -> 0.015384615
B46: =B45+7 -> 43184 | C46: =D45+G45-H45 -> 238.15305 | D46: =C46+(C46*0.03) -> 245.29764 | E46: =C46/3250 -> 0.073277861 | F46: =(D46-C46)/E46 -> 97.5 | I46: =E46*50/C46 -> 0.015384615
B47: =B46+7 -> 43191 | C47: =D46+G46-H46 -> 245.29764 | D47: =C47+(C47*0.03) -> 252.65657 | E47: =C47/3250 -> 0.075476196 | F47: =(D47-C47)/E47 -> 97.5 | H47: =(D47-C34)*0.35 -> -393.58591 | I47: =E47*50/C47 -> 0.015384615 | K47: Alligator Fund Management gives or takes 35% of losses or winnings
A49: 10 | B49: =B47+7 -> 43198 | C49: =D47+G47-H47 -> 646.24247 | D49: =C49+(C49*0.03) -> 665.62975 | E49: =C49/3250 -> 0.19884384 | F49: =(D49-C49)/E49 -> 97.5 | I49: =E49*50/C49 -> 0.015384615
B50: =B49+7 -> 43205 | C50: =D49+G49-H49 -> 665.62975 | D50: =C50+(C50*0.03) -> 685.59864 | E50: =C50/3250 -> 0.20480915 | F50: =(D50-C50)/E50 -> 97.5 | I50: =E50*50/C50 -> 0.015384615
...

Sheet Harm_Perfomance
A2: Month | B2: Week | C2: Account | D2: Projected Return | E2: £ | F2: No | G2: Account | H2: Account | I2: MAX Risk | J2: Actual
B3: Commencing | C3: Equity | D3: Equity | E3: Per Pip | F3: Of Pips | G3: Top UP | H3: W/drawal | I3: % Per Trade | J3: % ROI
A4: 1 | B4: 42904 | C4: 200 | D4: =C4+(C4*0) -> 200 | E4: =C4/3250 -> 0.061538462 | F4: =(D4-C4)/E4 -> 0 | I4: =E4*50/C4 -> 0.015384615 | J4: =(D4-C4)/C4 -> 0
B5: =B4+7 -> 42911 | C5: =D4+G4-H4 -> 200 | D5: =C5+(C5*0.015) -> 203 | E5: =C5/3250 -> 0.061538462 | F5: =(D5-C5)/E5 -> 48.75 | I5: =E5*50/C5 -> 0.015384615 | J5: =(D5-C4)/C4 -> 0.015
B6: =B5+7 -> 42918 | C6: =D5+G5-H5 -> 203 | D6: =C6+(C6*0.054) -> 213.962 | E6: =C6/3250 -> 0.062461538 | F6: =(D6-C6)/E6 -> 175.5 | I6: =E6*50/C6 -> 0.015384615 | J6: =(D6-$C4)/$C4 -> 0.06981
B7: =B6+7 -> 42925 | C7: =D6+G6-H6 -> 213.962 | D7: =C7+(C7*0.0483) -> 224.29636 | E7: =C7/3250 -> 0.065834462 | F7: =(D7-C7)/E7 -> 156.975 | I7: =E7*50/C7 -> 0.015384615 | J7: =(D7-$C4)/$C4 -> 0.12148182
A9: 2 | B9: =B7+7 -> 42932 | C9: =D7+G7-H7 -> 224.29636 | D9: =C9+(C9*-0.074) -> 207.69843 | E9: =C9/3250 -> 0.069014266 | F9: =(D9-C9)/E9 -> -240.5 | I9: =E9*50/C9 -> 0.015384615 | J9: =(D9-$C4)/$C4 -> 0.038492168
B10: =B9+7 -> 42939 | C10: =D9+G9-H9 -> 207.69843 | D10: =C10+(C10*0.0427) -> 216.56716 | E10: =C10/3250 -> 0.06390721 | F10: =(D10-C10)/E10 -> 138.775 | I10: =E10*50/C10 -> 0.015384615 | J10: =(D10-$C4)/$C4 -> 0.082835784
B11: =B10+7 -> 42946 | C11: =D10+G10-H10 -> 216.56716 | D11: =C11+(C11*-0.0045) -> 215.5926 | E11: =C11/3250 -> 0.066636048 | F11: =(D11-C11)/E11 -> -14.625 | I11: =E11*50/C11 -> 0.015384615 | J11: =(D11-$C4)/$C4 -> 0.077963023
B12: =B11+7 -> 42953 | C12: =D11+G11-H11 -> 215.5926 | D12: =C12+(C12*-0.0326) -> 208.56429 | E12: =C12/3250 -> 0.066336186 | F12: =(D12-C12)/E12 -> -105.95 | I12: =E12*50/C12 -> 0.015384615 | J12: =(D12-$C4)/$C4 -> 0.042821428
A14: 3 | B14: =B12+7 -> 42960 | C14: =D12+G12-H12 -> 208.56429 | D14: =C14+(C14*-0.02) -> 204.393 | E14: =C14/3250 -> 0.064173626 | F14: =(D14-C14)/E14 -> -65 | I14: =E14*50/C14 -> 0.015384615 | J14: =(D14-$C4)/$C4 -> 0.021965
B15: =B14+7 -> 42967 | C15: =D14+G14-H14 -> 204.393 | D15: =C15+(C15*0.0596) -> 216.57482 | E15: =C15/3250 -> 0.062890154 | F15: =(D15-C15)/E15 -> 193.7 | I15: =E15*50/C15 -> 0.015384615 | J15: =(D15-$C4)/$C4 -> 0.082874114
B16: =B15+7 -> 42974 | C16: =D15+G15-H15 -> 216.57482 | D16: =C16+(C16*-0.0884) -> 197.42961 | E16: =C16/3250 -> 0.066638407 | F16: =(D16-C16)/E16 -> -287.3 | I16: =E16*50/C16 -> 0.015384615 | J16: =(D16-$C4)/$C4 -> -0.012851958
B17: =B16+7 -> 42981 | C17: =D16+G16-H16 -> 197.42961 | D17: =C17+(C17*-0.0583) -> 185.91946 | E17: =C17/5500 -> 0.035896292 | F17: =(D17-C17)/E17 -> -320.65 | H17: =(D17-C4)*0.3 -> -4.2241613 | I17: =E17*50/C17 -> 0.0090909091 | J17: =(D17-C19)/$C4 -> -0.021120807 | K17: Alligator Fund Management gives or takes 30% of losses or winnings
A19: 4 | B19: =B17+7 -> 42988 | C19: =D17+G17-H17 -> 190.14362 | D19: =C19+(C19*0.1119) -> 211.4207 | E19: =C19/5500 -> 0.034571568 | F19: =(D19-C19)/E19 -> 615.45 | I19: =E19*50/C19 -> 0.0090909091 | J19: =(D19-$C4)/$C4 -> 0.057103475
B20: =B19+7 -> 42995 | C20: =D19+G19-H19 -> 211.4207 | D20: =C20+(C20*-0.073) -> 195.98698 | E20: =C20/5500 -> 0.038440126 | F20: =(D20-C20)/E20 -> -401.5 | I20: =E20*50/C20 -> 0.0090909091 | J20: =(D20-$C4)/$C4 -> -0.020065079
B21: =B20+7 -> 43002 | C21: =D20+G20-H20 -> 195.98698 | D21: =C21+(C21*-0.0103) -> 193.96832 | E21: =C21/5500 -> 0.035633997 | F21: =(D21-C21)/E21 -> -56.65 | I21: =E21*50/C21 -> 0.0090909091 | J21: =(D21-$C4)/$C4 -> -0.030158408
B22: =B21+7 -> 43009 | C22: =D21+G21-H21 -> 193.96832 | D22: =C22+(C22*-0.0544) -> 183.41644 | E22: =C22/5500 -> 0.035266967 | F22: =(D22-C22)/E22 -> -299.2 | I22: =E22*50/C22 -> 0.0090909091 | J22: =(D22-$C4)/$C4 -> -0.082917791
A24: 5 | B24: =B22+7 -> 43016 | C24: =D22+G22-H22 -> 183.41644 | D24: =C24+(C24*-0.0579) -> 172.79663 | E24: =C24/3000 -> 0.061138814 | F24: =(D24-C24)/E24 -> -173.7 | I24: =E24*50/C24 -> 0.016666667 | J24: =(D24-$C4)/$C4 -> -0.13601685
B25: =B24+7 -> 43023 | C25: =D24+G24-H24 -> 172.79663 | D25: =C25+(C25*0.0774) -> 186.17109 | E25: =C25/3000 -> 0.057598877 | F25: =(D25-C25)/E25 -> 232.2 | I25: =E25*50/C25 -> 0.016666667 | J25: =(D25-$C4)/$C4 -> -0.069144555
B26: =B25+7 -> 43030 | C26: =D25+G25-H25 -> 186.17109 | D26: =C26+(C26*0.0717) -> 199.51956 | E26: =C26/3000 -> 0.06205703 | F26: =(D26-C26)/E26 -> 215.1 | I26: =E26*50/C26 -> 0.016666667 | J26: =(D26-$C4)/$C4 -> -0.0024022196
B27: =B26+7 -> 43037 | C27: =D26+G26-H26 -> 199.51956 | D27: =C27+(C27*0.09) -> 217.47632 | E27: =C27/3000 -> 0.066506519 | F27: =(D27-C27)/E27 -> 270 | I27: =E27*50/C27 -> 0.016666667 | J27: =(D27-$C4)/$C4 -> 0.087381581
A29: 6 | B29: =B27+7 -> 43044 | C29: =D27+G27-H27 -> 217.47632 | D29: =C29+(C29*-0.0353) -> 209.7994 | E29: =C29/3000 -> 0.072492105 | F29: =(D29-C29)/E29 -> -105.9 | I29: =E29*50/C29 -> 0.016666667 | J29: =(D29-$C4)/$C4 -> 0.048997011
B30: =B29+7 -> 43051 | C30: =D29+G29-H29 -> 209.7994 | D30: =C30+(C30*-0.1562) -> 177.02874 | E30: =C30/3000 -> 0.069933134 | F30: =(D30-C30)/E30 -> -468.6 | I30: =E30*50/C30 -> 0.016666667 | J30: =(D30-$C4)/$C4 -> -0.11485632
B31: =B30+7 -> 43058 | C31: =D30+G30-H30 -> 177.02874 | D31: =C31+(C31*0.081) -> 191.36806 | E31: =C31/2500 -> 0.070811494 | F31: =(D31-C31)/E31 -> 202.5 | I31: =E31*50/C31 -> 0.02 | J31: =(D31-$C4)/$C4 -> -0.043159684
B32: =B31+7 -> 43065 | C32: =D31+G31-H31 -> 191.36806 | D32: =C32+(C32*-0.0343) -> 184.80414 | E32: =C32/2500 -> 0.076547225 | F32: =(D32-C32)/E32 -> -85.75 | H32: =(D32-C19)*0.35 -> -1.8688197 | I32: =E32*50/C32 -> 0.02 | J32: =(C34-$C4)/$C4 -> -0.066635208 | K32: Alligator Fund Management gives or takes 35% of losses or winnings
A34: 7 | B34: =B32+7 -> 43072 | C34: =D32+G32-H32 -> 186.67296 | D34: =C34+(C34*0.10018) -> 205.37386 | E34: =C34/3250 -> 0.057437833 | F34: =(D34-C34)/E34 -> 325.585 | I34: =E34*50/C34 -> 0.015384615 | J34: =(D34-$C4)/$C4 -> 0.026869276
B35: =B34+7 -> 43079 | C35: =D34+G34-H34 -> 205.37386 | D35: =C35+(C35*0.0214) -> 209.76886 | E35: =C35/3250 -> 0.063191955 | F35: =(D35-C35)/E35 -> 69.55 | I35: =E35*50/C35 -> 0.015384615 | J35: =(D35-$C4)/$C4 -> 0.048844279
B36: =B35+7 -> 43086 | C36: =D35+G35-H35 -> 209.76886 | D36: =C36+(C36*0.0087) -> 211.59384 | E36: =C36/3250 -> 0.064544263 | F36: =(D36-C36)/E36 -> 28.275 | I36: =E36*50/C36 -> 0.015384615 | J36: =(D36-$C4)/$C4 -> 0.057969224
B37: =B36+7 -> 43093 | C37: =D36+G36-H36 -> 211.59384 | D37: =C37+(C37*0) -> 211.59384 | E37: =C37/3250 -> 0.065105798 | F37: =(D37-C37)/E37 -> 0 | I37: =E37*50/C37 -> 0.015384615 | J37: =(D37-$C4)/$C4 -> 0.057969224
A39: 8 | B39: =B37+7 -> 43100 | C39: =D37+G37-H37 -> 211.59384 | D39: =C39+(C39*0) -> 211.59384 | E39: =C39/3250 -> 0.065105798 | F39: =(D39-C39)/E39 -> 0 | I39: =E39*50/C39 -> 0.015384615 | J39: =(D39-$C4)/$C4 -> 0.057969224
B40: =B39+7 -> 43107 | C40: =D39+G39-H39 -> 211.59384 | D40: =C40+(C40*-0.0579) -> 199.34256 | E40: =C40/3250 -> 0.065105798 | F40: =(D40-C40)/E40 -> -188.175 | I40: =E40*50/C40 -> 0.015384615 | J40: =(D40-$C4)/$C4 -> -0.003287194
B41: =B40+7 -> 43114 | C41: =D40+G40-H40 -> 199.34256 | D41: =C41+(C41*-0.1565) -> 168.14545 | E41: =C41/3250 -> 0.061336173 | F41: =(D41-C41)/E41 -> -508.625 | I41: =E41*50/C41 -> 0.015384615 | J41: =(D41-$C4)/$C4 -> -0.15927275
B42: =B41+7 -> 43121 | C42: =D41+G41-H41 -> 168.14545 | D42: =C42+(C42*-0.2248) -> 130.34635 | E42: =C42/3250 -> 0.051737062 | F42: =(D42-C42)/E42 -> -730.6 | I42: =E42*50/C42 -> 0.015384615 | J42: =(D42-$C4)/$C4 -> -0.34826823
A44: 9 | B44: =B42+7 -> 43128 | C44: =D42+G42-H42 -> 130.34635 | D44: =C44+(C44*-0.05845) -> 122.72761 | E44: =C44/3250 -> 0.04010657 | F44: =(D44-C44)/E44 -> -189.9625 | I44: =E44*50/C44 -> 0.015384615 | J44: =(D44-$C4)/$C4 -> -0.38636196
B45: =B44+7 -> 43135 | C45: =D44+G44-H44 -> 122.72761 | D45: =C45+(C45*0) -> 122.72761 | E45: =C45/3250 -> 0.037762341 | F45: =(D45-C45)/E45 -> 0 | I45: =E45*50/C45 -> 0.015384615 | J45: =(D45-$C4)/$C4 -> -0.38636196
B46: =B45+7 -> 43142 | C46: =D45+G45-H45 -> 122.72761 | D46: =C46+(C46*0.0028) -> 123.07125 | E46: =C46/3250 -> 0.037762341 | F46: =(D46-C46)/E46 -> 9.1 | I46: =E46*50/C46 -> 0.015384615 | J46: =(D46-$C4)/$C4 -> -0.38464377
B47: =B46+7 -> 43149 | C47: =D46+G46-H46 -> 123.07125 | D47: =C47+(C47*0.1878) -> 146.18403 | E47: =C47/3250 -> 0.037868076 | F47: =(D47-C47)/E47 -> 610.35 | H47: =(D47-C34)*0.35 -> -14.171126 | I47: =E47*50/C47 -> 0.015384615 | J47: =(D47-$C4)/$C4 -> -0.26907987 | K47: Alligator Fund Management gives or takes 35% of losses or winnings
A49: 10 | B49: =B47+7 -> 43156 | C49: =D47+G47-H47 -> 160.35515 | D49: =C49+(C49*-0.7842) -> 34.604642 | E49: =C49/3250 -> 0.049340047 | F49: =(D49-C49)/E49 -> -2548.65 | I49: =E49*50/C49 -> 0.015384615 | J49: =(D49-$C4)/$C4 -> -0.82697679
B50: =B49+7 -> 43163 | C50: =D49+G49-H49 -> 34.604642 | D50: =C50+(C50*0.03) -> 35.642781 | E50: =C50/3250 -> 0.010647582 | F50: =(D50-C50)/E50 -> 97.5 | I50: =E50*50/C50 -> 0.015384615
...

Sheet Rud_Perfomance
A2: Month | B2: Week | C2: Account | D2: Projected Return | E2: £ | F2: No | G2: Account | H2: Account | I2: MAX Risk | J2: Actual
B3: Commencing | C3: Equity | D3: Equity | E3: Per Pip | F3: Of Pips | G3: Top UP | H3: W/drawal | I3: % Per Trade | J3: % ROI
A4: 1 | B4: 42883 | C4: 2000 | D4: =C4+(C4*0.035) -> 2070 | E4: =C4/3250 -> 0.61538462 | F4: =(D4-C4)/E4 -> 113.75 | I4: =E4*50/C4 -> 0.015384615 | J4: =(D4-C4)/C4 -> 0.035
B5: =B4+7 -> 42890 | C5: =D4+G4-H4 -> 2070 | D5: =C5+(C5*0.1312) -> 2341.584 | E5: =C5/3250 -> 0.63692308 | F5: =(D5-C5)/E5 -> 426.4 | I5: =E5*50/C5 -> 0.015384615 | J5: =(D5-C4)/C4 -> 0.170792
B6: =B5+7 -> 42897 | C6: =D5+G5-H5 -> 2341.584 | D6: =C6+(C6*0.014) -> 2374.3662 | E6: =C6/3250 -> 0.72048738 | F6: =(D6-C6)/E6 -> 45.5 | I6: =E6*50/C6 -> 0.015384615 | J6: =(D6-$C4)/$C4 -> 0.18718309
B7: =B6+7 -> 42904 | C7: =D6+G6-H6 -> 2374.3662 | D7: =C7+(C7*0) -> 2374.3662 | E7: =C7/3250 -> 0.73057421 | F7: =(D7-C7)/E7 -> 0 | I7: =E7*50/C7 -> 0.015384615 | J7: =(D7-$C4)/$C4 -> 0.18718309
A9: 2 | B9: =B7+7 -> 42911 | C9: =D7+G7-H7 -> 2374.3662 | D9: =C9+(C9*0.015) -> 2409.9817 | E9: =C9/3250 -> 0.73057421 | F9: =(D9-C9)/E9 -> 48.75 | I9: =E9*50/C9 -> 0.015384615 | J9: =(D9-$C4)/$C4 -> 0.20499083
B10: =B9+7 -> 42918 | C10: =D9+G9-H9 -> 2409.9817 | D10: =C10+(C10*0.054) -> 2540.1207 | E10: =C10/3250 -> 0.74153282 | F10: =(D10-C10)/E10 -> 175.5 | I10: =E10*50/C10 -> 0.015384615 | J10: =(D10-$C4)/$C4 -> 0.27006034
B11: =B10+7 -> 42925 | C11: =D10+G10-H10 -> 2540.1207 | D11: =C11+(C11*0.0483) -> 2662.8085 | E11: =C11/3250 -> 0.78157559 | F11: =(D11-C11)/E11 -> 156.975 | I11: =E11*50/C11 -> 0.015384615 | J11: =(D11-$C4)/$C4 -> 0.33140425
B12: =B11+7 -> 42932 | C12: =D11+G11-H11 -> 2662.8085 | D12: =C12+(C12*-0.074) -> 2465.7607 | E12: =C12/3250 -> 0.81932569 | F12: =(D12-C12)/E12 -> -240.5 | I12: =E12*50/C12 -> 0.015384615 | J12: =(D12-$C4)/$C4 -> 0.23288034
A14: 3 | B14: =B12+7 -> 42939 | C14: =D12+G12-H12 -> 2465.7607 | D14: =C14+(C14*0.0427) -> 2571.0487 | E14: =C14/3250 -> 0.75869559 | F14: =(D14-C14)/E14 -> 138.775 | I14: =E14*50/C14 -> 0.015384615 | J14: =(D14-$C4)/$C4 -> 0.28552433
B15: =B14+7 -> 42946 | C15: =D14+G14-H14 -> 2571.0487 | D15: =C15+(C15*-0.0045) -> 2559.4789 | E15: =C15/3250 -> 0.7910919 | F15: =(D15-C15)/E15 -> -14.625 | I15: =E15*50/C15 -> 0.015384615 | J15: =(D15-$C4)/$C4 -> 0.27973947
B16: =B15+7 -> 42953 | C16: =D15+G15-H15 -> 2559.4789 | D16: =C16+(C16*-0.0326) -> 2476.0399 | E16: =C16/3250 -> 0.78753198 | F16: =(D16-C16)/E16 -> -105.95 | I16: =E16*50/C16 -> 0.015384615 | J16: =(D16-$C4)/$C4 -> 0.23801996
B17: =B16+7 -> 42960 | C17: =D16+G16-H16 -> 2476.0399 | D17: =C17+(C17*-0.02) -> 2426.5191 | E17: =C17/3250 -> 0.76185844 | F17: =(D17-C17)/E17 -> -65 | H17: =(D17-C4)*0.3 -> 127.95574 | I17: =E17*50/C17 -> 0.015384615 | J17: =(D17-C19)/$C4 -> 0.063977869 | K17: Alligator Fund Management gives or takes 30% of losses or winnings
A19: 4 | B19: =B17+7 -> 42967 | C19: =D17+G17-H17 -> 2298.5634 | D19: =C19+(C19*0.0596) -> 2435.5578 | E19: =C19/3250 -> 0.70725027 | F19: =(D19-C19)/E19 -> 193.7 | I19: =E19*50/C19 -> 0.015384615 | J19: =(D19-$C4)/$C4 -> 0.21777888
B20: =B19+7 -> 42974 | C20: =D19+G19-H19 -> 2435.5578 | D20: =C20+(C20*-0.0884) -> 2220.2545 | E20: =C20/3250 -> 0.74940239 | F20: =(D20-C20)/E20 -> -287.3 | I20: =E20*50/C20 -> 0.015384615 | J20: =(D20-$C4)/$C4 -> 0.11012723
B21: =B20+7 -> 42981 | C21: =D20+G20-H20 -> 2220.2545 | D21: =C21+(C21*-0.0583) -> 2090.8136 | E21: =C21/5500 -> 0.40368263 | F21: =(D21-C21)/E21 -> -320.65 | I21: =E21*50/C21 -> 0.0090909091 | J21: =(D21-$C4)/$C4 -> 0.045406813
B22: =B21+7 -> 42988 | C22: =D21+G21-H21 -> 2090.8136 | D22: =C22+(C22*0.1119) -> 2324.7757 | E22: =C22/5500 -> 0.38014793 | F22: =(D22-C22)/E22 -> 615.45 | I22: =E22*50/C22 -> 0.0090909091 | J22: =(D22-$C4)/$C4 -> 0.16238784
A24: 5 | B24: =B22+7 -> 42995 | C24: =D22+G22-H22 -> 2324.7757 | D24: =C24+(C24*-0.073) -> 2155.067 | E24: =C24/5500 -> 0.42268649 | F24: =(D24-C24)/E24 -> -401.5 | I24: =E24*50/C24 -> 0.0090909091 | J24: =(D24-$C4)/$C4 -> 0.077533523
B25: =B24+7 -> 43002 | C25: =D24+G24-H24 -> 2155.067 | D25: =C25+(C25*-0.0103) -> 2132.8699 | E25: =C25/5500 -> 0.39183037 | F25: =(D25-C25)/E25 -> -56.65 | I25: =E25*50/C25 -> 0.0090909091 | J25: =(D25-$C4)/$C4 -> 0.066434928
B26: =B25+7 -> 43009 | C26: =D25+G25-H25 -> 2132.8699 | D26: =C26+(C26*-0.0544) -> 2016.8417 | E26: =C26/5500 -> 0.38779452 | F26: =(D26-C26)/E26 -> -299.2 | I26: =E26*50/C26 -> 0.0090909091 | J26: =(D26-$C4)/$C4 -> 0.008420868
B27: =B26+7 -> 43016 | C27: =D26+G26-H26 -> 2016.8417 | D27: =C27+(C27*-0.0579) -> 1900.0666 | E27: =C27/3000 -> 0.67228058 | F27: =(D27-C27)/E27 -> -173.7 | I27: =E27*50/C27 -> 0.016666667 | J27: =(D27-$C4)/$C4 -> -0.0499667
A29: 6 | B29: =B27+7 -> 43023 | C29: =D27+G27-H27 -> 1900.0666 | D29: =C29+(C29*0.0774) -> 2047.1318 | E29: =C29/3000 -> 0.63335553 | F29: =(D29-C29)/E29 -> 232.2 | I29: =E29*50/C29 -> 0.016666667 | J29: =(D29-$C4)/$C4 -> 0.023565877
B30: =B29+7 -> 43030 | C30: =D29+G29-H29 -> 2047.1318 | D30: =C30+(C30*0.0717) -> 2193.9111 | E30: =C30/3000 -> 0.68237725 | F30: =(D30-C30)/E30 -> 215.1 | I30: =E30*50/C30 -> 0.016666667 | J30: =(D30-$C4)/$C4 -> 0.09695555
B31: =B30+7 -> 43037 | C31: =D30+G30-H30 -> 2193.9111 | D31: =C31+(C31*0.09) -> 2391.3631 | E31: =C31/3000 -> 0.7313037 | F31: =(D31-C31)/E31 -> 270 | I31: =E31*50/C31 -> 0.016666667 | J31: =(D31-$C4)/$C4 -> 0.19568155
B32: =B31+7 -> 43044 | C32: =D31+G31-H31 -> 2391.3631 | D32: =C32+(C32*-0.0353) -> 2306.948 | E32: =C32/3000 -> 0.79712103 | F32: =(D32-C32)/E32 -> -105.9 | H32: =(D32-C19)*0.35 -> 2.9346076 | I32: =E32*50/C32 -> 0.016666667 | J32: =(D32-$C4)/$C4 -> 0.15347399 | K32: Alligator Fund Management gives or takes 35% of losses or winnings
A34: 7 | B34: =B32+7 -> 43051 | C34: =D32+G32-H32 -> 2304.0134 | D34: =C34+(C34*-0.1562) -> 1944.1265 | E34: =C34/3000 -> 0.76800446 | F34: =(D34-C34)/E34 -> -468.6 | I34: =E34*50/C34 -> 0.016666667 | J34: =(D34-$C4)/$C4 -> -0.027936757
B35: =B34+7 -> 43058 | C35: =D34+G34-H34 -> 1944.1265 | D35: =C35+(C35*0.081) -> 2101.6007 | E35: =C35/2500 -> 0.77765059 | F35: =(D35-C35)/E35 -> 202.5 | I35: =E35*50/C35 -> 0.02 | J35: =(D35-$C4)/$C4 -> 0.050800366
B36: =B35+7 -> 43065 | C36: =D35+G35-H35 -> 2101.6007 | D36: =C36+(C36*-0.0343) -> 2029.5158 | E36: =C36/2500 -> 0.84064029 | F36: =(D36-C36)/E36 -> -85.75 | I36: =E36*50/C36 -> 0.02 | J36: =(D36-$C4)/$C4 -> 0.014757913
B37: =B36+7 -> 43072 | C37: =D36+G36-H36 -> 2029.5158 | D37: =C37+(C37*0.10018) -> 2232.8327 | E37: =C37/3250 -> 0.62446641 | F37: =(D37-C37)/E37 -> 325.585 | I37: =E37*50/C37 -> 0.015384615 | J37: =(D37-$C4)/$C4 -> 0.11641636
A39: 8 | B39: =B37+7 -> 43079 | C39: =D37+G37-H37 -> 2232.8327 | D39: =C39+(C39*0.0214) -> 2280.6153 | E39: =C39/3250 -> 0.68702545 | F39: =(D39-C39)/E39 -> 69.55 | I39: =E39*50/C39 -> 0.015384615 | J39: =(D39-$C4)/$C4 -> 0.14030767
B40: =B39+7 -> 43086 | C40: =D39+G39-H39 -> 2280.6153 | D40: =C40+(C40*0.0087) -> 2300.4567 | E40: =C40/3250 -> 0.7017278 | F40: =(D40-C40)/E40 -> 28.275 | I40: =E40*50/C40 -> 0.015384615 | J40: =(D40-$C4)/$C4 -> 0.15022835
B41: =B40+7 -> 43093 | C41: =D40+G40-H40 -> 2300.4567 | D41: =C41+(C41*0) -> 2300.4567 | E41: =C41/3250 -> 0.70783283 | F41: =(D41-C41)/E41 -> 0 | I41: =E41*50/C41 -> 0.015384615 | J41: =(D41-$C4)/$C4 -> 0.15022835
B42: =B41+7 -> 43100 | C42: =D41+G41-H41 -> 2300.4567 | D42: =C42+(C42*0) -> 2300.4567 | E42: =C42/3250 -> 0.70783283 | F42: =(D42-C42)/E42 -> 0 | I42: =E42*50/C42 -> 0.015384615 | J42: =(D42-$C4)/$C4 -> 0.15022835
A44: 9 | B44: =B42+7 -> 43107 | C44: =D42+G42-H42 -> 2300.4567 | D44: =C44+(C44*-0.0579) -> 2167.2603 | E44: =C44/3250 -> 0.70783283 | F44: =(D44-C44)/E44 -> -188.175 | I44: =E44*50/C44 -> 0.015384615 | J44: =(D44-$C4)/$C4 -> 0.083630126
B45: =B44+7 -> 43114 | C45: =D44+G44-H44 -> 2167.2603 | D45: =C45+(C45*-0.1565) -> 1828.084 | E45: =C45/3250 -> 0.66684931 | F45: =(D45-C45)/E45 -> -508.625 | I45: =E45*50/C45 -> 0.015384615 | J45: =(D45-$C4)/$C4 -> -0.085957988
B46: =B45+7 -> 43121 | C46: =D45+G45-H45 -> 1828.084 | D46: =C46+(C46*-0.2248) -> 1417.1307 | E46: =C46/3250 -> 0.56248739 | F46: =(D46-C46)/E46 -> -730.6 | I46: =E46*50/C46 -> 0.015384615 | J46: =(D46-$C4)/$C4 -> -0.29143463
B47: =B46+7 -> 43128 | C47: =D46+G46-H46 -> 1417.1307 | D47: =C47+(C47*-0.05845) -> 1334.2994 | E47: =C47/3250 -> 0.43604023 | F47: =(D47-C47)/E47 -> -189.9625 | H47: =(D47-C34)*0.35 -> -339.39988 | I47: =E47*50/C47 -> 0.015384615 | J47: =(D47-$C4)/$C4 -> -0.33285028 | K47: Alligator Fund Management gives or takes 35% of losses or winnings
A49: 10 | B49: =B47+7 -> 43135 | C49: =D47+G47-H47 -> 1673.6993 | D49: =C49+(C49*0) -> 1673.6993 | E49: =C49/3250 -> 0.51498441 | F49: =(D49-C49)/E49 -> 0 | I49: =E49*50/C49 -> 0.015384615 | J49: =(D49-$C4)/$C4 -> -0.16315034
B50: =B49+7 -> 43142 | C50: =D49+G49-H49 -> 1673.6993 | D50: =C50+(C50*0.0028) -> 1678.3857 | E50: =C50/3250 -> 0.51498441 | F50: =(D50-C50)/E50 -> 9.1 | I50: =E50*50/C50 -> 0.015384615 | J50: =(D50-$C4)/$C4 -> -0.16080716
...

Sheet Dam_Perfomance
A2: Month | B2: Week | C2: Account | D2: Projected Return | E2: £ | F2: No | G2: Account | H2: Account | I2: MAX Risk | J2: Actual
B3: Commencing | C3: Equity | D3: Equity | E3: Per Pip | F3: Of Pips | G3: Top UP | H3: W/drawal | I3: % Per Trade | J3: % ROI
A4: 1 | B4: 42883 | C4: 2000 | D4: =C4+(C4*0.035) -> 2070 | E4: =C4/3250 -> 0.61538462 | F4: =(D4-C4)/E4 -> 113.75 | I4: =E4*50/C4 -> 0.015384615 | J4: =(D4-C4)/C4 -> 0.035
B5: =B4+7 -> 42890 | C5: =D4+G4-H4 -> 2070 | D5: =C5+(C5*0.1312) -> 2341.584 | E5: =C5/3250 -> 0.63692308 | F5: =(D5-C5)/E5 -> 426.4 | I5: =E5*50/C5 -> 0.015384615 | J5: =(D5-C4)/C4 -> 0.170792
B6: =B5+7 -> 42897 | C6: =D5+G5-H5 -> 2341.584 | D6: =C6+(C6*0.014) -> 2374.3662 | E6: =C6/3250 -> 0.72048738 | F6: =(D6-C6)/E6 -> 45.5 | I6: =E6*50/C6 -> 0.015384615 | J6: =(D6-$C4)/$C4 -> 0.18718309
B7: =B6+7 -> 42904 | C7: =D6+G6-H6 -> 2374.3662 | D7: =C7+(C7*0) -> 2374.3662 | E7: =C7/3250 -> 0.73057421 | F7: =(D7-C7)/E7 -> 0 | I7: =E7*50/C7 -> 0.015384615 | J7: =(D7-$C4)/$C4 -> 0.18718309
A9: 2 | B9: =B7+7 -> 42911 | C9: =D7+G7-H7 -> 2374.3662 | D9: =C9+(C9*0.015) -> 2409.9817 | E9: =C9/3250 -> 0.73057421 | F9: =(D9-C9)/E9 -> 48.75 | I9: =E9*50/C9 -> 0.015384615 | J9: =(D9-$C4)/$C4 -> 0.20499083
B10: =B9+7 -> 42918 | C10: =D9+G9-H9 -> 2409.9817 | D10: =C10+(C10*0.054) -> 2540.1207 | E10: =C10/3250 -> 0.74153282 | F10: =(D10-C10)/E10 -> 175.5 | I10: =E10*50/C10 -> 0.015384615 | J10: =(D10-$C4)/$C4 -> 0.27006034
B11: =B10+7 -> 42925 | C11: =D10+G10-H10 -> 2540.1207 | D11: =C11+(C11*0.0483) -> 2662.8085 | E11: =C11/3250 -> 0.78157559 | F11: =(D11-C11)/E11 -> 156.975 | I11: =E11*50/C11 -> 0.015384615 | J11: =(D11-$C4)/$C4 -> 0.33140425
B12: =B11+7 -> 42932 | C12: =D11+G11-H11 -> 2662.8085 | D12: =C12+(C12*-0.074) -> 2465.7607 | E12: =C12/3250 -> 0.81932569 | F12: =(D12-C12)/E12 -> -240.5 | I12: =E12*50/C12 -> 0.015384615 | J12: =(D12-$C4)/$C4 -> 0.23288034
A14: 3 | B14: =B12+7 -> 42939 | C14: =D12+G12-H12 -> 2465.7607 | D14: =C14+(C14*0.0427) -> 2571.0487 | E14: =C14/3250 -> 0.75869559 | F14: =(D14-C14)/E14 -> 138.775 | I14: =E14*50/C14 -> 0.015384615 | J14: =(D14-$C4)/$C4 -> 0.28552433
B15: =B14+7 -> 42946 | C15: =D14+G14-H14 -> 2571.0487 | D15: =C15+(C15*-0.0045) -> 2559.4789 | E15: =C15/3250 -> 0.7910919 | F15: =(D15-C15)/E15 -> -14.625 | I15: =E15*50/C15 -> 0.015384615 | J15: =(D15-$C4)/$C4 -> 0.27973947
B16: =B15+7 -> 42953 | C16: =D15+G15-H15 -> 2559.4789 | D16: =C16+(C16*-0.0326) -> 2476.0399 | E16: =C16/3250 -> 0.78753198 | F16: =(D16-C16)/E16 -> -105.95 | I16: =E16*50/C16 -> 0.015384615 | J16: =(D16-$C4)/$C4 -> 0.23801996
B17: =B16+7 -> 42960 | C17: =D16+G16-H16 -> 2476.0399 | D17: =C17+(C17*-0.02) -> 2426.5191 | E17: =C17/3250 -> 0.76185844 | F17: =(D17-C17)/E17 -> -65 | H17: =(D17-C4)*0.3 -> 127.95574 | I17: =E17*50/C17 -> 0.015384615 | J17: =(D17-C19)/$C4 -> 0.063977869 | K17: Alligator Fund Management gives or takes 30% of losses or winnings
A19: 4 | B19: =B17+7 -> 42967 | C19: =D17+G17-H17 -> 2298.5634 | D19: =C19+(C19*0.0596) -> 2435.5578 | E19: =C19/3250 -> 0.70725027 | F19: =(D19-C19)/E19 -> 193.7 | I19: =E19*50/C19 -> 0.015384615 | J19: =(D19-$C4)/$C4 -> 0.21777888
B20: =B19+7 -> 42974 | C20: =D19+G19-H19 -> 2435.5578 | D20: =C20+(C20*-0.0884) -> 2220.2545 | E20: =C20/3250 -> 0.74940239 | F20: =(D20-C20)/E20 -> -287.3 | I20: =E20*50/C20 -> 0.015384615 | J20: =(D20-$C4)/$C4 -> 0.11012723
B21: =B20+7 -> 42981 | C21: =D20+G20-H20 -> 2220.2545 | D21: =C21+(C21*-0.0583) -> 2090.8136 | E21: =C21/5500 -> 0.40368263 | F21: =(D21-C21)/E21 -> -320.65 | I21: =E21*50/C21 -> 0.0090909091 | J21: =(D21-$C4)/$C4 -> 0.045406813
B22: =B21+7 -> 42988 | C22: =D21+G21-H21 -> 2090.8136 | D22: =C22+(C22*0.1119) -> 2324.7757 | E22: =C22/5500 -> 0.38014793 | F22: =(D22-C22)/E22 -> 615.45 | I22: =E22*50/C22 -> 0.0090909091 | J22: =(D22-$C4)/$C4 -> 0.16238784
A24: 5 | B24: =B22+7 -> 42995 | C24: =D22+G22-H22 -> 2324.7757 | D24: =C24+(C24*-0.073) -> 2155.067 | E24: =C24/5500 -> 0.42268649 | F24: =(D24-C24)/E24 -> -401.5 | I24: =E24*50/C24 -> 0.0090909091 | J24: =(D24-$C4)/$C4 -> 0.077533523
B25: =B24+7 -> 43002 | C25: =D24+G24-H24 -> 2155.067 | D25: =C25+(C25*-0.0103) -> 2132.8699 | E25: =C25/5500 -> 0.39183037 | F25: =(D25-C25)/E25 -> -56.65 | I25: =E25*50/C25 -> 0.0090909091 | J25: =(D25-$C4)/$C4 -> 0.066434928
B26: =B25+7 -> 43009 | C26: =D25+G25-H25 -> 2132.8699 | D26: =C26+(C26*-0.0544) -> 2016.8417 | E26: =C26/5500 -> 0.38779452 | F26: =(D26-C26)/E26 -> -299.2 | I26: =E26*50/C26 -> 0.0090909091 | J26: =(D26-$C4)/$C4 -> 0.008420868
B27: =B26+7 -> 43016 | C27: =D26+G26-H26 -> 2016.8417 | D27: =C27+(C27*-0.0579) -> 1900.0666 | E27: =C27/3000 -> 0.67228058 | F27: =(D27-C27)/E27 -> -173.7 | I27: =E27*50/C27 -> 0.016666667 | J27: =(D27-$C4)/$C4 -> -0.0499667
A29: 6 | B29: =B27+7 -> 43023 | C29: =D27+G27-H27 -> 1900.0666 | D29: =C29+(C29*0.0774) -> 2047.1318 | E29: =C29/3000 -> 0.63335553 | F29: =(D29-C29)/E29 -> 232.2 | I29: =E29*50/C29 -> 0.016666667 | J29: =(D29-$C4)/$C4 -> 0.023565877
B30: =B29+7 -> 43030 | C30: =D29+G29-H29 -> 2047.1318 | D30: =C30+(C30*0.0717) -> 2193.9111 | E30: =C30/3000 -> 0.68237725 | F30: =(D30-C30)/E30 -> 215.1 | I30: =E30*50/C30 -> 0.016666667 | J30: =(D30-$C4)/$C4 -> 0.09695555
B31: =B30+7 -> 43037 | C31: =D30+G30-H30 -> 2193.9111 | D31: =C31+(C31*0.09) -> 2391.3631 | E31: =C31/3000 -> 0.7313037 | F31: =(D31-C31)/E31 -> 270 | I31: =E31*50/C31 -> 0.016666667 | J31: =(D31-$C4)/$C4 -> 0.19568155
B32: =B31+7 -> 43044 | C32: =D31+G31-H31 -> 2391.3631 | D32: =C32+(C32*-0.0353) -> 2306.948 | E32: =C32/3000 -> 0.79712103 | F32: =(D32-C32)/E32 -> -105.9 | H32: =(D32-C19)*0.35 -> 2.9346076 | I32: =E32*50/C32 -> 0.016666667 | J32: =(D32-$C4)/$C4 -> 0.15347399 | K32: Alligator Fund Management gives or takes 35% of losses or winnings
A34: 7 | B34: =B32+7 -> 43051 | C34: =D32+G32-H32 -> 2304.0134 | D34: =C34+(C34*-0.1562) -> 1944.1265 | E34: =C34/3000 -> 0.76800446 | F34: =(D34-C34)/E34 -> -468.6 | I34: =E34*50/C34 -> 0.016666667 | J34: =(D34-$C4)/$C4 -> -0.027936757
B35: =B34+7 -> 43058 | C35: =D34+G34-H34 -> 1944.1265 | D35: =C35+(C35*0.081) -> 2101.6007 | E35: =C35/2500 -> 0.77765059 | F35: =(D35-C35)/E35 -> 202.5 | I35: =E35*50/C35 -> 0.02 | J35: =(D35-$C4)/$C4 -> 0.050800366
B36: =B35+7 -> 43065 | C36: =D35+G35-H35 -> 2101.6007 | D36: =C36+(C36*-0.0343) -> 2029.5158 | E36: =C36/2500 -> 0.84064029 | F36: =(D36-C36)/E36 -> -85.75 | I36: =E36*50/C36 -> 0.02 | J36: =(D36-$C4)/$C4 -> 0.014757913
B37: =B36+7 -> 43072 | C37: =D36+G36-H36 -> 2029.5158 | D37: =C37+(C37*0.10018) -> 2232.8327 | E37: =C37/3250 -> 0.62446641 | F37: =(D37-C37)/E37 -> 325.585 | I37: =E37*50/C37 -> 0.015384615 | J37: =(D37-$C4)/$C4 -> 0.11641636
A39: 8 | B39: =B37+7 -> 43079 | C39: =D37+G37-H37 -> 2232.8327 | D39: =C39+(C39*0.0214) -> 2280.6153 | E39: =C39/3250 -> 0.68702545 | F39: =(D39-C39)/E39 -> 69.55 | I39: =E39*50/C39 -> 0.015384615 | J39: =(D39-$C4)/$C4 -> 0.14030767
B40: =B39+7 -> 43086 | C40: =D39+G39-H39 -> 2280.6153 | D40: =C40+(C40*0.0087) -> 2300.4567 | E40: =C40/3250 -> 0.7017278 | F40: =(D40-C40)/E40 -> 28.275 | I40: =E40*50/C40 -> 0.015384615 | J40: =(D40-$C4)/$C4 -> 0.15022835
B41: =B40+7 -> 43093 | C41: =D40+G40-H40 -> 2300.4567 | D41: =C41+(C41*0) -> 2300.4567 | E41: =C41/3250 -> 0.70783283 | F41: =(D41-C41)/E41 -> 0 | I41: =E41*50/C41 -> 0.015384615 | J41: =(D41-$C4)/$C4 -> 0.15022835
B42: =B41+7 -> 43100 | C42: =D41+G41-H41 -> 2300.4567 | D42: =C42+(C42*0) -> 2300.4567 | E42: =C42/3250 -> 0.70783283 | F42: =(D42-C42)/E42 -> 0 | I42: =E42*50/C42 -> 0.015384615 | J42: =(D42-$C4)/$C4 -> 0.15022835
A44: 9 | B44: =B42+7 -> 43107 | C44: =D42+G42-H42 -> 2300.4567 | D44: =C44+(C44*-0.0579) -> 2167.2603 | E44: =C44/3250 -> 0.70783283 | F44: =(D44-C44)/E44 -> -188.175 | I44: =E44*50/C44 -> 0.015384615 | J44: =(D44-$C4)/$C4 -> 0.083630126
B45: =B44+7 -> 43114 | C45: =D44+G44-H44 -> 2167.2603 | D45: =C45+(C45*-0.1565) -> 1828.084 | E45: =C45/3250 -> 0.66684931 | F45: =(D45-C45)/E45 -> -508.625 | I45: =E45*50/C45 -> 0.015384615 | J45: =(D45-$C4)/$C4 -> -0.085957988
B46: =B45+7 -> 43121 | C46: =D45+G45-H45 -> 1828.084 | D46: =C46+(C46*-0.2248) -> 1417.1307 | E46: =C46/3250 -> 0.56248739 | F46: =(D46-C46)/E46 -> -730.6 | I46: =E46*50/C46 -> 0.015384615 | J46: =(D46-$C4)/$C4 -> -0.29143463
